BEGIN:VCALENDAR
METHOD:PUBLISH
VERSION:2.0
PRODID:-//Eventilla iCal Syndication//NONSGML Liana//EN
BEGIN:VEVENT
UID:2NLQ5@eventilla.com
DTSTAMP:20260910T053000Z
DTSTART:20260910T053000Z
DTEND:20260910T063000Z
SUMMARY:Pinnalla: Palkka-avoimuusdirektiivin vaikutukset käytännössä
DESCRIPTION:EU:n palkka-avoimuusdirektiivi (EU 2023/970) velvoittaa lisäämään palkkojen läpinäkyvyyttä ja edistämään palkkatasa-arvoa. Direktiivi tuli panna täytäntöön jäsenmaissa viimeistään kesäkuussa 2026. Suomessa direktiivi pantiin täytäntöön minimisäännösten mukaisesti hallitusohjelman kirjauksen perusteella.\nTässä webinaarissa käsittelemme:\n\nMitä palkka-avoimuus tarkoittaa?\nMiten palkkojen läpinäkyvyys lisääntyy?\nMillaisia muutoksia lainsäädäntöömme tehtiin?\nMitä nämä muutokset tarkoittavat työelämän arjessa/työntekijän oikeuksien kannalta?\nMiten muutokset vaikuttavat työnhakuprosessiin ja palkkaneuvotteluihin?\nMiten palkkaraportointi ja palkkaerojen selvittäminen tapahtuu?\n\nKenelle webinaari on suunnattu?\nKaikille\, jotka haluavat ymmärtää paremmin palkka-avoimuusdirektiivin aiheuttamia muutoksia lainsäädännössämme ja sen vaikutuksia työelämän arjessa.\nAsiantuntijoina tasa-arvo- ja työympäristöasioiden päällikkö Lotta Savinko ja juristi Hannele Fremer Akavasta.\nTasa-arvo- ja työympäristöasioiden päällikkö Lotta Savinko \nJuristi Hannele Fremer Akavasta\nTilaisuuden juontaa Heidi Hännikäinen Juristiliitosta.\nIlmoittaudu mukaan \nIlmoittautuminen päättyy 9.9.2026 klo 16.\nTilaisuus järjestetään Zoom-alustalla. Osallistujat saavat osallistumislinkin ilmoittautumisen vahvistusviestissä. Verkkosivuillamme on vinkkejä etäyhteyden ja Zoomin käyttöön.\nAsiantuntijalle voi lähettää ennakkokysymyksiä ilmoittautumislomakkeessa. Osallistujilla on mahdollisuus esittää kysymyksiä myös chattikentässä webinaarin aikana.\nJuristiliiton kaikissa tilaisuuksissa noudatetaan turvallisen tilan periaatteita. Kaikki tilaisuuksiimme ja toimintaamme osallistuvat sitoutuvat periaatteiden noudattamiseen.\nTallenne \nTilaisuudesta ei tehdä tallennetta.\nTervetuloa mukaan!  
LOCATION:Zoom
URL:http://tapahtumat.lakimiesliitto.fi/palkka_avoimuusdirektiivin_vaikutukset_kaytannossa
END:VEVENT
END:VCALENDAR
