BEGIN:VCALENDAR
METHOD:PUBLISH
VERSION:2.0
PRODID:-//Eventilla iCal Syndication//NONSGML Liana//EN
BEGIN:VEVENT
UID:bJPyW@eventilla.com
DTSTAMP:20230101T220000Z
DTSTART:20230101T220000Z
DTEND:20240822T090000Z
SUMMARY:Oikkareiden CV-sparri
DESCRIPTION:Voit jättää asiantuntijoiden sparrattavaksi CV:si Oikkareiden CV-sparri -verkkovalmennuksessa. \nLiiton asiantuntijat käyvät viestejä läpi kerran viikossa\, joten saat vinkit noin viikon kuluessa siitä\, kun olet jättänyt viestisi. Kommentoimme dokumentteja ääniviestillä ja/tai kirjallisesti.\nMikäli haluat käydä työnhaun dokumentteja läpi syvällisemmin tai pohtia osaamisesi sanoittamista uravalmentajan kanssa\, niin varaa aika valmentajalle ajanvarauskalenterista. Kalenteriin pääset tästä.\nHuomioithan valmennuksen päivämäärän. \nKatso ajantasainen CV-sparri ja muut verkkovalmennukset Juristiliiton sivuilta.
LOCATION:Howspace -oppimisalusta
URL:http://tapahtumat.lakimiesliitto.fi/oikkareiden_cv_sparri
END:VEVENT
END:VCALENDAR
