BEGIN:VCALENDAR
METHOD:PUBLISH
VERSION:2.0
PRODID:-//Eventilla iCal Syndication//NONSGML Liana//EN
BEGIN:VEVENT
UID:x51Lp@eventilla.com
DTSTAMP:20210813T060000Z
DTSTART:20210813T060000Z
DTEND:20211231T210000Z
SUMMARY:Työnhakemus-pikahuolto (syksy 2021)
DESCRIPTION:Työnhakemus-pikahuolto (jatkuva ilmoittautuminen)\nTarvitsetko pika-apua työhakemuksen kanssa? Pikahuolto auttaa sinua verkossa uravalmentajan tapaan\, ja siinä käydään läpi samoja aiheita kuin uravalmennuksessa. Voit tarkistaa pikahuollossa vaihe vaiheelta\, ovatko perusasiat kunnossa.\nPikahuolto on itsenäisesti suoritettava kokonaisuus\, jossa tehtäviä tehdään ja reflektoidaan omatoimisesti. Valmennus on räätälöity Lakimiesliiton jäsenille työnhaun tueksi.\nValmennuksessa käsitellään monipuolisesti työhakemuksen sisältöä ja roolia työnhaussa. Valmennuksesta löytyy pohjamateriaalia\, tehtäviä sekä itsearviointia opittujen asioiden käytäntöön viemiseksi.\nVerkkovalmennukseen on käynnissä jatkuva ilmoitautuminen12.12.2021 saakka. Verkkovalmennus ja sen materiaalit ovat ilmoittautuneiden käytössä 31.12.2021 saakka\, joten voit edetä valmennuksessa omaan tahtiisi.\nIlmoittautumalla valmennukseen saat materiaalin käyttöösi. Koulutus on maksuton Lakimiesliiton jäsenille.\nIlmoittautuminen\nvalmennuskokonaisuuteen päättyy 12.12.2021. Ilmoittautuessasi saat linkin valmennukseen vahvistusviestin yhteydessä.
LOCATION:Oma tietokone
URL:http://tapahtumat.lakimiesliitto.fi/tyohakemus_pikahuolto_non_stop_syksy2021
END:VEVENT
END:VCALENDAR
